BEGIN:VCALENDAR
VERSION:2.0
PRODID:-//StreamRadar//Match Calendar//EN
CALSCALE:GREGORIAN
METHOD:PUBLISH
X-WR-CALNAME:Turkey U18 W vs Uzbekistan U18 W
X-WR-TIMEZONE:America/New_York
BEGIN:VEVENT
UID:match-5608955@streamradar.soccer
SUMMARY:Turkey U18 W vs Uzbekistan U18 W
DTSTAMP:20260421T162801Z
DTSTART;TZID=America/New_York:20260411T043000
DTEND;TZID=America/New_York:20260411T063000
DESCRIPTION:Где смотреть Turkey  W до 18 – Uzbekistan  W д
  18 в турнире Международный женский товар
 ищеский матч. Прямая трансляция и телепр
 грамма.\nhttps://streamradar.soccer/ru/match/5608955/turkey-u18-w-vs
 -uzbekistan-u18-w/
URL;VALUE=URI:https://streamradar.soccer/ru/match/5608955/turkey-u18-w-vs-u
 zbekistan-u18-w/
STATUS:CONFIRMED
END:VEVENT
END:VCALENDAR
