BEGIN:VCALENDAR
VERSION:2.0
PRODID:-//StreamRadar//Match Calendar//EN
CALSCALE:GREGORIAN
METHOD:PUBLISH
X-WR-CALNAME:Uzbekistan U18 W vs Morocco U17 W
X-WR-TIMEZONE:America/New_York
BEGIN:VEVENT
UID:match-5608954@streamradar.soccer
SUMMARY:Uzbekistan U18 W vs Morocco U17 W
DTSTAMP:20260422T005917Z
DTSTART;TZID=America/New_York:20260408T093000
DTEND;TZID=America/New_York:20260408T113000
DESCRIPTION:Где смотреть Uzbekistan  W до 18 – Morocco  W д
 о 17 в турнире Международный женский това
 ищеский матч. Прямая трансляция и телепр
 ограмма.\nhttps://streamradar.soccer/ru/match/5608954/uzbekistan-u18
 -w-vs-morocco-u17-w/
URL;VALUE=URI:https://streamradar.soccer/ru/match/5608954/uzbekistan-u18-w-
 vs-morocco-u17-w/
STATUS:CONFIRMED
END:VEVENT
END:VCALENDAR
