BEGIN:VCALENDAR
VERSION:2.0
PRODID:-//StreamRadar//Match Calendar//EN
CALSCALE:GREGORIAN
METHOD:PUBLISH
X-WR-CALNAME:Simba vs JKT Tanzania
X-WR-TIMEZONE:America/New_York
BEGIN:VEVENT
UID:match-5608952@streamradar.soccer
SUMMARY:Simba vs JKT Tanzania
DTSTAMP:20260421T081528Z
DTSTART;TZID=America/New_York:20260506T111500
DTEND;TZID=America/New_York:20260506T131500
LOCATION:KMC Stadium
DESCRIPTION:Где смотреть Симба – JKT Tanzania в турн
 ире Tanzania Premier League. Прямая трансляция и тел
 епрограмма.\nhttps://streamradar.soccer/ru/match/5608952/simba-vs
 -jkt-tanzania/
URL;VALUE=URI:https://streamradar.soccer/ru/match/5608952/simba-vs-jkt-tanz
 ania/
STATUS:CONFIRMED
END:VEVENT
END:VCALENDAR
