BEGIN:VCALENDAR
VERSION:2.0
PRODID:-//StreamRadar//Match Calendar//EN
CALSCALE:GREGORIAN
METHOD:PUBLISH
X-WR-CALNAME:Viitorul Cluj vs Sighetu Marmaţiei
X-WR-TIMEZONE:America/New_York
BEGIN:VEVENT
UID:match-5608448@streamradar.soccer
SUMMARY:Viitorul Cluj vs Sighetu Marmaţiei
DTSTAMP:20260421T084415Z
DTSTART;TZID=America/New_York:20260501T110000
DTEND;TZID=America/New_York:20260501T130000
DESCRIPTION:Где смотреть Viitorul Cluj – Sighetu Marmaţiei в
  турнире Румыния - Liga III. Прямая трансляци
  и телепрограмма.\nhttps://streamradar.soccer/ru/match/56084
 48/viitorul-cluj-vs-sighetu-marma-iei/
URL;VALUE=URI:https://streamradar.soccer/ru/match/5608448/viitorul-cluj-vs-
 sighetu-marma-iei/
STATUS:CONFIRMED
END:VEVENT
END:VCALENDAR
