BEGIN:VCALENDAR
VERSION:2.0
PRODID:-//StreamRadar//Match Calendar//EN
CALSCALE:GREGORIAN
METHOD:PUBLISH
X-WR-CALNAME:Mogosoaia vs Titu
X-WR-TIMEZONE:America/New_York
BEGIN:VEVENT
UID:match-5608433@streamradar.soccer
SUMMARY:Mogosoaia vs Titu
DTSTAMP:20260421T062400Z
DTSTART;TZID=America/New_York:20260502T110000
DTEND;TZID=America/New_York:20260502T130000
DESCRIPTION:Где смотреть Mogosoaia – Titu в турнире Р
 умыния - Liga III. Прямая трансляция и телепр
 грамма.\nhttps://streamradar.soccer/ru/match/5608433/mogosoaia-vs-ti
 tu/
URL;VALUE=URI:https://streamradar.soccer/ru/match/5608433/mogosoaia-vs-titu
 /
STATUS:CONFIRMED
END:VEVENT
END:VCALENDAR
