BEGIN:VCALENDAR
VERSION:2.0
PRODID:-//StreamRadar//Match Calendar//EN
CALSCALE:GREGORIAN
METHOD:PUBLISH
X-WR-CALNAME:Petrolul 52 II vs Unirea Braniştea
X-WR-TIMEZONE:America/New_York
BEGIN:VEVENT
UID:match-5608423@streamradar.soccer
SUMMARY:Petrolul 52 II vs Unirea Braniştea
DTSTAMP:20260421T084415Z
DTSTART;TZID=America/New_York:20260501T110000
DTEND;TZID=America/New_York:20260501T130000
DESCRIPTION:Где смотреть Petrolul 52 II – Unirea Braniştea в
  турнире Румыния - Liga III. Прямая трансляци
  и телепрограмма.\nhttps://streamradar.soccer/ru/match/56084
 23/petrolul-52-ii-vs-unirea-brani-tea/
URL;VALUE=URI:https://streamradar.soccer/ru/match/5608423/petrolul-52-ii-vs
 -unirea-brani-tea/
STATUS:CONFIRMED
END:VEVENT
END:VCALENDAR
