BEGIN:VCALENDAR
VERSION:2.0
PRODID:-//StreamRadar//Match Calendar//EN
CALSCALE:GREGORIAN
METHOD:PUBLISH
X-WR-CALNAME:Democrata GV vs Vitória ES
X-WR-TIMEZONE:America/New_York
BEGIN:VEVENT
UID:match-5607994@streamradar.soccer
SUMMARY:Democrata GV vs Vitória ES
DTSTAMP:20260421T114450Z
DTSTART;TZID=America/New_York:20260504T193000
DTEND;TZID=America/New_York:20260504T213000
LOCATION:Estadio Jose Mammoud Abbas
DESCRIPTION:Где смотреть Democrata GV – Vitória ES в тур
 ире Бразилия - Serie D. Прямая трансляция и т
 елепрограмма.\nhttps://streamradar.soccer/ru/match/5607994/demo
 crata-gv-vs-vitoria-es/
URL;VALUE=URI:https://streamradar.soccer/ru/match/5607994/democrata-gv-vs-v
 itoria-es/
STATUS:CONFIRMED
END:VEVENT
END:VCALENDAR
