BEGIN:VCALENDAR
VERSION:2.0
PRODID:-//StreamRadar//Match Calendar//EN
CALSCALE:GREGORIAN
METHOD:PUBLISH
X-WR-CALNAME:Khimik vs Pobeda Nizhniy Novgorod
X-WR-TIMEZONE:America/New_York
BEGIN:VEVENT
UID:match-5607577@streamradar.soccer
SUMMARY:Khimik vs Pobeda Nizhniy Novgorod
DTSTAMP:20260421T080804Z
DTSTART;TZID=America/New_York:20260503T090000
DTEND;TZID=America/New_York:20260503T110000
DESCRIPTION:Где смотреть Химик Дзержинск – Pobed
 a Nizhniy Novgorod в турнире Россия - Вторая Лига 
 оссии. Прямая трансляция и телепрограмм
 .\nhttps://streamradar.soccer/ru/match/5607577/khimik-vs-pobeda-nizhniy-no
 vgorod/
URL;VALUE=URI:https://streamradar.soccer/ru/match/5607577/khimik-vs-pobeda-
 nizhniy-novgorod/
STATUS:CONFIRMED
END:VEVENT
END:VCALENDAR
