BEGIN:VCALENDAR
VERSION:2.0
PRODID:-//StreamRadar//Match Calendar//EN
CALSCALE:GREGORIAN
METHOD:PUBLISH
X-WR-CALNAME:Tver vs Chertanovo
X-WR-TIMEZONE:America/New_York
BEGIN:VEVENT
UID:match-5607573@streamradar.soccer
SUMMARY:Tver vs Chertanovo
DTSTAMP:20260421T084138Z
DTSTART;TZID=America/New_York:20260503T090000
DTEND;TZID=America/New_York:20260503T110000
DESCRIPTION:Где смотреть Тверь – Чертаново (Мо
 сква) в турнире Россия - Вторая Лига Росси
 и. Прямая трансляция и телепрограмма.\nhttps
 ://streamradar.soccer/ru/match/5607573/tver-vs-chertanovo/
URL;VALUE=URI:https://streamradar.soccer/ru/match/5607573/tver-vs-chertanov
 o/
STATUS:CONFIRMED
END:VEVENT
END:VCALENDAR
