BEGIN:VCALENDAR
VERSION:2.0
PRODID:-//StreamRadar//Match Calendar//EN
CALSCALE:GREGORIAN
METHOD:PUBLISH
X-WR-CALNAME:ASC Diaraf vs Guédiawaye
X-WR-TIMEZONE:America/New_York
BEGIN:VEVENT
UID:match-5607563@streamradar.soccer
SUMMARY:ASC Diaraf vs Guédiawaye
DTSTAMP:20260421T162719Z
DTSTART;TZID=America/New_York:20260411T123000
DTEND;TZID=America/New_York:20260411T143000
LOCATION:Stade de Diaraf
DESCRIPTION:Где смотреть ASC Diaraf – Guédiawaye в турн
 ре Сенегал - Premier League. Прямая трансляция и
  телепрограмма.\nhttps://streamradar.soccer/ru/match/5607563/a
 sc-diaraf-vs-guediawaye/
URL;VALUE=URI:https://streamradar.soccer/ru/match/5607563/asc-diaraf-vs-gue
 diawaye/
STATUS:CONFIRMED
END:VEVENT
END:VCALENDAR
