BEGIN:VCALENDAR
VERSION:2.0
PRODID:-//StreamRadar//Match Calendar//EN
CALSCALE:GREGORIAN
METHOD:PUBLISH
X-WR-CALNAME:Fundacion Amigos vs Atenas
X-WR-TIMEZONE:America/New_York
BEGIN:VEVENT
UID:match-5607506@streamradar.soccer
SUMMARY:Fundacion Amigos vs Atenas
DTSTAMP:20260421T092436Z
DTSTART;TZID=America/New_York:20260503T160000
DTEND;TZID=America/New_York:20260503T180000
DESCRIPTION:Где смотреть Fundacion Amigos – Atenas в турн
 ире Torneo Federal A. Прямая трансляция и телепр
 грамма.\nhttps://streamradar.soccer/ru/match/5607506/fundacion-amigo
 s-vs-atenas/
URL;VALUE=URI:https://streamradar.soccer/ru/match/5607506/fundacion-amigos-
 vs-atenas/
STATUS:CONFIRMED
END:VEVENT
END:VCALENDAR
