BEGIN:VCALENDAR
VERSION:2.0
PRODID:-//StreamRadar//Match Calendar//EN
CALSCALE:GREGORIAN
METHOD:PUBLISH
X-WR-CALNAME:Mixto vs Capital Brasilia
X-WR-TIMEZONE:America/New_York
BEGIN:VEVENT
UID:match-5607454@streamradar.soccer
SUMMARY:Mixto vs Capital Brasilia
DTSTAMP:20260421T084424Z
DTSTART;TZID=America/New_York:20260503T170000
DTEND;TZID=America/New_York:20260503T190000
DESCRIPTION:Где смотреть Mixto – Capital Brasilia в турн
 ре Бразилия - Serie D. Прямая трансляция и те
 лепрограмма.\nhttps://streamradar.soccer/ru/match/5607454/mixto-
 vs-capital-brasilia/
URL;VALUE=URI:https://streamradar.soccer/ru/match/5607454/mixto-vs-capital-
 brasilia/
STATUS:CONFIRMED
END:VEVENT
END:VCALENDAR
