BEGIN:VCALENDAR
VERSION:2.0
PRODID:-//StreamRadar//Match Calendar//EN
CALSCALE:GREGORIAN
METHOD:PUBLISH
X-WR-CALNAME:São Luiz vs Cianorte
X-WR-TIMEZONE:America/New_York
BEGIN:VEVENT
UID:match-5607445@streamradar.soccer
SUMMARY:São Luiz vs Cianorte
DTSTAMP:20260421T084252Z
DTSTART;TZID=America/New_York:20260503T150000
DTEND;TZID=America/New_York:20260503T170000
DESCRIPTION:Где смотреть São Luiz – Cianorte в турнир
  Бразилия - Serie D. Прямая трансляция и теле
 программа.\nhttps://streamradar.soccer/ru/match/5607445/sao-luiz-v
 s-cianorte/
URL;VALUE=URI:https://streamradar.soccer/ru/match/5607445/sao-luiz-vs-ciano
 rte/
STATUS:CONFIRMED
END:VEVENT
END:VCALENDAR
