BEGIN:VCALENDAR
VERSION:2.0
PRODID:-//StreamRadar//Match Calendar//EN
CALSCALE:GREGORIAN
METHOD:PUBLISH
X-WR-CALNAME:Nova Iguaçu vs Velo Clube
X-WR-TIMEZONE:America/New_York
BEGIN:VEVENT
UID:match-5607443@streamradar.soccer
SUMMARY:Nova Iguaçu vs Velo Clube
DTSTAMP:20260421T084231Z
DTSTART;TZID=America/New_York:20260503T150000
DTEND;TZID=America/New_York:20260503T170000
LOCATION:Estadio Janio Moraes
DESCRIPTION:Где смотреть Nova Iguaçu – Velo Clube в турн
 ире Бразилия - Serie D. Прямая трансляция и т
 лепрограмма.\nhttps://streamradar.soccer/ru/match/5607443/nova-
 iguacu-vs-velo-clube/
URL;VALUE=URI:https://streamradar.soccer/ru/match/5607443/nova-iguacu-vs-ve
 lo-clube/
STATUS:CONFIRMED
END:VEVENT
END:VCALENDAR
