BEGIN:VCALENDAR
VERSION:2.0
PRODID:-//StreamRadar//Match Calendar//EN
CALSCALE:GREGORIAN
METHOD:PUBLISH
X-WR-CALNAME:Golemo Konjari vs Prespa
X-WR-TIMEZONE:America/New_York
BEGIN:VEVENT
UID:match-5607397@streamradar.soccer
SUMMARY:Golemo Konjari vs Prespa
DTSTAMP:20260421T084253Z
DTSTART;TZID=America/New_York:20260503T100000
DTEND;TZID=America/New_York:20260503T120000
DESCRIPTION:Где смотреть Golemo Konjari – Prespa в турни
 ре North Macedonia - Втора лига. Прямая трансляци
 я и телепрограмма.\nhttps://streamradar.soccer/ru/match/5607
 397/golemo-konjari-vs-prespa/
URL;VALUE=URI:https://streamradar.soccer/ru/match/5607397/golemo-konjari-vs
 -prespa/
STATUS:CONFIRMED
END:VEVENT
END:VCALENDAR
