BEGIN:VCALENDAR
VERSION:2.0
PRODID:-//StreamRadar//Match Calendar//EN
CALSCALE:GREGORIAN
METHOD:PUBLISH
X-WR-CALNAME:Al Ittifaq vs Hatta
X-WR-TIMEZONE:America/New_York
BEGIN:VEVENT
UID:match-5607393@streamradar.soccer
SUMMARY:Al Ittifaq vs Hatta
DTSTAMP:20260421T084054Z
DTSTART;TZID=America/New_York:20260503T100500
DTEND;TZID=America/New_York:20260503T120500
DESCRIPTION:Где смотреть Аль-Иттифак – Хатта в
  турнире UAE First Division League. Прямая трансляци
  и телепрограмма.\nhttps://streamradar.soccer/ru/match/56073
 93/al-ittifaq-vs-hatta/
URL;VALUE=URI:https://streamradar.soccer/ru/match/5607393/al-ittifaq-vs-hat
 ta/
STATUS:CONFIRMED
END:VEVENT
END:VCALENDAR
