BEGIN:VCALENDAR
VERSION:2.0
PRODID:-//StreamRadar//Match Calendar//EN
CALSCALE:GREGORIAN
METHOD:PUBLISH
X-WR-CALNAME:Agboville vs Korhogo
X-WR-TIMEZONE:America/New_York
BEGIN:VEVENT
UID:match-5607382@streamradar.soccer
SUMMARY:Agboville vs Korhogo
DTSTAMP:20260422T015517Z
DTSTART;TZID=America/New_York:20260405T113000
DTEND;TZID=America/New_York:20260405T133000
DESCRIPTION:Где смотреть Agboville – Korhogo в турнире
  Côte d'Ivoire Premier Division. Прямая трансляция и те
 лепрограмма.\nhttps://streamradar.soccer/ru/match/5607382/agbovi
 lle-vs-korhogo/
URL;VALUE=URI:https://streamradar.soccer/ru/match/5607382/agboville-vs-korh
 ogo/
STATUS:CONFIRMED
END:VEVENT
END:VCALENDAR
