BEGIN:VCALENDAR
VERSION:2.0
PRODID:-//StreamRadar//Match Calendar//EN
CALSCALE:GREGORIAN
METHOD:PUBLISH
X-WR-CALNAME:Stabæk vs LSK
X-WR-TIMEZONE:America/New_York
BEGIN:VEVENT
UID:match-5604392@streamradar.soccer
SUMMARY:Stabæk vs LSK
DTSTAMP:20260421T060913Z
DTSTART;TZID=America/New_York:20260912T090000
DTEND;TZID=America/New_York:20260912T110000
LOCATION:Nadderud Stadion
DESCRIPTION:Где смотреть Stabæk – LSK в турнире Но
 вегия - Toppserien. Прямая трансляция и телепр
 ограмма.\nhttps://streamradar.soccer/ru/match/5604392/stabak-vs-lsk/
URL;VALUE=URI:https://streamradar.soccer/ru/match/5604392/stabak-vs-lsk/
STATUS:CONFIRMED
END:VEVENT
END:VCALENDAR
