BEGIN:VCALENDAR
VERSION:2.0
PRODID:-//StreamRadar//Match Calendar//EN
CALSCALE:GREGORIAN
METHOD:PUBLISH
X-WR-CALNAME:AGF Kvinder vs Brøndby Kvinder
X-WR-TIMEZONE:America/New_York
BEGIN:VEVENT
UID:match-5602746@streamradar.soccer
SUMMARY:AGF Kvinder vs Brøndby Kvinder
DTSTAMP:20260421T055617Z
DTSTART;TZID=America/New_York:20260428T130000
DTEND;TZID=America/New_York:20260428T150000
DESCRIPTION:Где смотреть AGF Kvinder – Brøndby Kvinder в т
 рнире Дания - Kvindeligaen. Прямая трансляция и
  телепрограмма.\nhttps://streamradar.soccer/ru/match/5602746/a
 gf-kvinder-vs-brndby-kvinder/
URL;VALUE=URI:https://streamradar.soccer/ru/match/5602746/agf-kvinder-vs-br
 ndby-kvinder/
STATUS:CONFIRMED
END:VEVENT
END:VCALENDAR
