BEGIN:VCALENDAR
VERSION:2.0
PRODID:-//StreamRadar//Match Calendar//EN
CALSCALE:GREGORIAN
METHOD:PUBLISH
X-WR-CALNAME:Boca Unidos vs Tucuman Central
X-WR-TIMEZONE:America/New_York
BEGIN:VEVENT
UID:match-5602175@streamradar.soccer
SUMMARY:Boca Unidos vs Tucuman Central
DTSTAMP:20260421T092148Z
DTSTART;TZID=America/New_York:20260419T100000
DTEND;TZID=America/New_York:20260419T120000
LOCATION:Estadio Leoncio Benitez
DESCRIPTION:Где смотреть Бока Унидос – Tucuman Centr
 al в турнире Torneo Federal A. Прямая трансляция и
  телепрограмма.\nhttps://streamradar.soccer/ru/match/5602175/b
 oca-unidos-vs-tucuman-central/
URL;VALUE=URI:https://streamradar.soccer/ru/match/5602175/boca-unidos-vs-tu
 cuman-central/
STATUS:CONFIRMED
END:VEVENT
END:VCALENDAR
