BEGIN:VCALENDAR
VERSION:2.0
PRODID:-//StreamRadar//Match Calendar//EN
CALSCALE:GREGORIAN
METHOD:PUBLISH
X-WR-CALNAME:Habenhauser FV vs Blumenthaler SV
X-WR-TIMEZONE:America/New_York
BEGIN:VEVENT
UID:match-5601973@streamradar.soccer
SUMMARY:Habenhauser FV vs Blumenthaler SV
DTSTAMP:20260421T144450Z
DTSTART;TZID=America/New_York:20260414T140000
DTEND;TZID=America/New_York:20260414T160000
LOCATION:BZA Burgwallstadion (Bremen)
DESCRIPTION:Где смотреть Habenhauser FV – Blumenthaler SV в 
 урнире Германия - Оберлига. Прямая транс
 яция и телепрограмма.\nhttps://streamradar.soccer/ru/mat
 ch/5601973/habenhauser-fv-vs-blumenthaler-sv/
URL;VALUE=URI:https://streamradar.soccer/ru/match/5601973/habenhauser-fv-vs
 -blumenthaler-sv/
STATUS:CONFIRMED
END:VEVENT
END:VCALENDAR
