BEGIN:VCALENDAR
VERSION:2.0
PRODID:-//StreamRadar//Match Calendar//EN
CALSCALE:GREGORIAN
METHOD:PUBLISH
X-WR-CALNAME:Blumenau vs Azuriz
X-WR-TIMEZONE:America/New_York
BEGIN:VEVENT
UID:match-5600584@streamradar.soccer
SUMMARY:Blumenau vs Azuriz
DTSTAMP:20260421T104257Z
DTSTART;TZID=America/New_York:20260418T143000
DTEND;TZID=America/New_York:20260418T163000
LOCATION:Estádio Ervin Blaese (Indaial\, Santa Catarina)
DESCRIPTION:Где смотреть Blumenau – Azuriz в турнире 
 разилия - Serie D. Прямая трансляция и телеп
 ограмма.\nhttps://streamradar.soccer/ru/match/5600584/blumenau-vs-a
 zuriz/
URL;VALUE=URI:https://streamradar.soccer/ru/match/5600584/blumenau-vs-azuri
 z/
STATUS:CONFIRMED
END:VEVENT
END:VCALENDAR
