BEGIN:VCALENDAR
VERSION:2.0
PRODID:-//StreamRadar//Match Calendar//EN
CALSCALE:GREGORIAN
METHOD:PUBLISH
X-WR-CALNAME:Chicago Fire II vs Philadelphia Union II
X-WR-TIMEZONE:America/New_York
BEGIN:VEVENT
UID:match-5595053@streamradar.soccer
SUMMARY:Chicago Fire II vs Philadelphia Union II
DTSTAMP:20260421T155050Z
DTSTART;TZID=America/New_York:20260913T160000
DTEND;TZID=America/New_York:20260913T180000
LOCATION:SeatGeek Stadium
DESCRIPTION:Где смотреть Chicago Fire II – Philadelphia Union 
 II в турнире MLS Next Pro. Прямая трансляция и т
 лепрограмма.\nhttps://streamradar.soccer/ru/match/5595053/chica
 go-fire-ii-vs-philadelphia-union-ii/
URL;VALUE=URI:https://streamradar.soccer/ru/match/5595053/chicago-fire-ii-v
 s-philadelphia-union-ii/
STATUS:CONFIRMED
END:VEVENT
END:VCALENDAR
