BEGIN:VCALENDAR
VERSION:2.0
PRODID:-//StreamRadar//Match Calendar//EN
CALSCALE:GREGORIAN
METHOD:PUBLISH
X-WR-CALNAME:Smorgon vs Niva Dolbizno
X-WR-TIMEZONE:America/New_York
BEGIN:VEVENT
UID:match-5594940@streamradar.soccer
SUMMARY:Smorgon vs Niva Dolbizno
DTSTAMP:20260423T184042Z
DTSTART;TZID=America/New_York:20260919T110000
DTEND;TZID=America/New_York:20260919T130000
LOCATION:Yunost Stadium
DESCRIPTION:Где смотреть Smorgon – Niva Dolbizno в турни
 ре Беларусь - Первая лига. Прямая трансля
 ия и телепрограмма.\nhttps://streamradar.soccer/ru/match/5
 594940/smorgon-vs-niva-dolbizno/
URL;VALUE=URI:https://streamradar.soccer/ru/match/5594940/smorgon-vs-niva-d
 olbizno/
STATUS:CONFIRMED
END:VEVENT
END:VCALENDAR
