BEGIN:VCALENDAR
VERSION:2.0
PRODID:-//StreamRadar//Match Calendar//EN
CALSCALE:GREGORIAN
METHOD:PUBLISH
X-WR-CALNAME:Slonim vs Molodechno-2013
X-WR-TIMEZONE:America/New_York
BEGIN:VEVENT
UID:match-5594927@streamradar.soccer
SUMMARY:Slonim vs Molodechno-2013
DTSTAMP:20260423T183718Z
DTSTART;TZID=America/New_York:20260912T110000
DTEND;TZID=America/New_York:20260912T130000
LOCATION:Yunost Stadium
DESCRIPTION:Где смотреть Slonim – Molodechno-2013 в турн
 ре Беларусь - Первая лига. Прямая трансля
 ция и телепрограмма.\nhttps://streamradar.soccer/ru/match/
 5594927/slonim-vs-molodechno-2013/
URL;VALUE=URI:https://streamradar.soccer/ru/match/5594927/slonim-vs-molodec
 hno-2013/
STATUS:CONFIRMED
END:VEVENT
END:VCALENDAR
