BEGIN:VCALENDAR
VERSION:2.0
PRODID:-//StreamRadar//Match Calendar//EN
CALSCALE:GREGORIAN
METHOD:PUBLISH
X-WR-CALNAME:Zenit vs Dinamo Moskva
X-WR-TIMEZONE:America/New_York
BEGIN:VEVENT
UID:match-5594670@streamradar.soccer
SUMMARY:Zenit vs Dinamo Moskva
DTSTAMP:20260422T082315Z
DTSTART;TZID=America/New_York:20260919T060000
DTEND;TZID=America/New_York:20260919T080000
LOCATION:Akademiya Zenit pole 5
DESCRIPTION:Где смотреть Зенит – Dinamo Moskva в тур
 ире Россия - Чемпионат России по женском
  футболу. Прямая трансляция и телепрогра
 мма.\nhttps://streamradar.soccer/ru/match/5594670/zenit-vs-dinamo-moskva
 /
URL;VALUE=URI:https://streamradar.soccer/ru/match/5594670/zenit-vs-dinamo-m
 oskva/
STATUS:CONFIRMED
END:VEVENT
END:VCALENDAR
