BEGIN:VCALENDAR
VERSION:2.0
PRODID:-//StreamRadar//Match Calendar//EN
CALSCALE:GREGORIAN
METHOD:PUBLISH
X-WR-CALNAME:Krasnodar vs Rubin Kazan
X-WR-TIMEZONE:America/New_York
BEGIN:VEVENT
UID:match-5594662@streamradar.soccer
SUMMARY:Krasnodar vs Rubin Kazan
DTSTAMP:20260421T161646Z
DTSTART;TZID=America/New_York:20260912T060000
DTEND;TZID=America/New_York:20260912T080000
LOCATION:Malaya Arena
DESCRIPTION:Где смотреть ЖФК Краснодар – ЖФК Р
 убин в турнире Россия - Чемпионат России 
 о женскому футболу. Прямая трансляция и 
 елепрограмма.\nhttps://streamradar.soccer/ru/match/5594662/kra
 snodar-vs-rubin-kazan/
URL;VALUE=URI:https://streamradar.soccer/ru/match/5594662/krasnodar-vs-rubi
 n-kazan/
STATUS:CONFIRMED
END:VEVENT
END:VCALENDAR
