BEGIN:VCALENDAR
VERSION:2.0
PRODID:-//StreamRadar//Match Calendar//EN
CALSCALE:GREGORIAN
METHOD:PUBLISH
X-WR-CALNAME:Europa vs Mons Calpe
X-WR-TIMEZONE:America/New_York
BEGIN:VEVENT
UID:match-5594466@streamradar.soccer
SUMMARY:Europa vs Mons Calpe
DTSTAMP:20260421T063054Z
DTSTART;TZID=America/New_York:20260425T103000
DTEND;TZID=America/New_York:20260425T123000
LOCATION:Victoria Stadium
DESCRIPTION:Где смотреть Europa – Mons Calpe в турнире
  Гибралтар - Gibraltar Premier Division. Прямая трансл
 яция и телепрограмма.\nhttps://streamradar.soccer/ru/matc
 h/5594466/europa-vs-mons-calpe/
URL;VALUE=URI:https://streamradar.soccer/ru/match/5594466/europa-vs-mons-ca
 lpe/
STATUS:CONFIRMED
END:VEVENT
END:VCALENDAR
