BEGIN:VCALENDAR
VERSION:2.0
PRODID:-//StreamRadar//Match Calendar//EN
CALSCALE:GREGORIAN
METHOD:PUBLISH
X-WR-CALNAME:Khujand vs Istiqlol
X-WR-TIMEZONE:America/New_York
BEGIN:VEVENT
UID:match-5593878@streamradar.soccer
SUMMARY:Khujand vs Istiqlol
DTSTAMP:20260422T053927Z
DTSTART;TZID=America/New_York:20260919T090000
DTEND;TZID=America/New_York:20260919T110000
DESCRIPTION:Где смотреть Худжанд – Истиклол в 
 турнире Таджикистан - Чемпионат Таджикис
 тана. Прямая трансляция и телепрограмма.\
 nhttps://streamradar.soccer/ru/match/5593878/khujand-vs-istiqlol/
URL;VALUE=URI:https://streamradar.soccer/ru/match/5593878/khujand-vs-istiql
 ol/
STATUS:CONFIRMED
END:VEVENT
END:VCALENDAR
