BEGIN:VCALENDAR
VERSION:2.0
PRODID:-//StreamRadar//Match Calendar//EN
CALSCALE:GREGORIAN
METHOD:PUBLISH
X-WR-CALNAME:ML Rogachev vs Arsenal
X-WR-TIMEZONE:America/New_York
BEGIN:VEVENT
UID:match-5593217@streamradar.soccer
SUMMARY:ML Rogachev vs Arsenal
DTSTAMP:20260423T170727Z
DTSTART;TZID=America/New_York:20260919T110000
DTEND;TZID=America/New_York:20260919T130000
LOCATION:Vitebsk CSK
DESCRIPTION:Где смотреть ML Rogachev – Arsenal в турнир
 е Беларусь - Чемпионат Беларуси по футбол
 у. Прямая трансляция и телепрограмма.\nhttps
 ://streamradar.soccer/ru/match/5593217/ml-rogachev-vs-arsenal/
URL;VALUE=URI:https://streamradar.soccer/ru/match/5593217/ml-rogachev-vs-ar
 senal/
STATUS:CONFIRMED
END:VEVENT
END:VCALENDAR
