BEGIN:VCALENDAR
VERSION:2.0
PRODID:-//StreamRadar//Match Calendar//EN
CALSCALE:GREGORIAN
METHOD:PUBLISH
X-WR-CALNAME:Neman Grodno vs Torpedo BelAZ
X-WR-TIMEZONE:America/New_York
BEGIN:VEVENT
UID:match-5593210@streamradar.soccer
SUMMARY:Neman Grodno vs Torpedo BelAZ
DTSTAMP:20260423T170920Z
DTSTART;TZID=America/New_York:20260912T110000
DTEND;TZID=America/New_York:20260912T130000
LOCATION:Stadion Neman
DESCRIPTION:Где смотреть Нёман (Гродно) – Торп
 до-БелАЗ в турнире Беларусь - Чемпионат Б
 еларуси по футболу. Прямая трансляция и т
 елепрограмма.\nhttps://streamradar.soccer/ru/match/5593210/nema
 n-grodno-vs-torpedo-belaz/
URL;VALUE=URI:https://streamradar.soccer/ru/match/5593210/neman-grodno-vs-t
 orpedo-belaz/
STATUS:CONFIRMED
END:VEVENT
END:VCALENDAR
