BEGIN:VCALENDAR
VERSION:2.0
PRODID:-//StreamRadar//Match Calendar//EN
CALSCALE:GREGORIAN
METHOD:PUBLISH
X-WR-CALNAME:Dinamo Minsk vs Dinamo Brest
X-WR-TIMEZONE:America/New_York
BEGIN:VEVENT
UID:match-5593206@streamradar.soccer
SUMMARY:Dinamo Minsk vs Dinamo Brest
DTSTAMP:20260423T170904Z
DTSTART;TZID=America/New_York:20260912T110000
DTEND;TZID=America/New_York:20260912T130000
LOCATION:Stadion Dinamo
DESCRIPTION:Где смотреть Динамо (Минск) – Дина
 о (Брест) в турнире Беларусь - Чемпионат Б
 еларуси по футболу. Прямая трансляция и т
 елепрограмма.\nhttps://streamradar.soccer/ru/match/5593206/dina
 mo-minsk-vs-dinamo-brest/
URL;VALUE=URI:https://streamradar.soccer/ru/match/5593206/dinamo-minsk-vs-d
 inamo-brest/
STATUS:CONFIRMED
END:VEVENT
END:VCALENDAR
