BEGIN:VCALENDAR
VERSION:2.0
PRODID:-//StreamRadar//Match Calendar//EN
CALSCALE:GREGORIAN
METHOD:PUBLISH
X-WR-CALNAME:BATE vs Naftan
X-WR-TIMEZONE:America/New_York
BEGIN:VEVENT
UID:match-5593205@streamradar.soccer
SUMMARY:BATE vs Naftan
DTSTAMP:20260423T170731Z
DTSTART;TZID=America/New_York:20260912T110000
DTEND;TZID=America/New_York:20260912T130000
LOCATION:Borisov Arena
DESCRIPTION:Где смотреть БАТЭ – Нафтан в турни
 ре Беларусь - Чемпионат Беларуси по футбо
 лу. Прямая трансляция и телепрограмма.\nhtt
 ps://streamradar.soccer/ru/match/5593205/bate-vs-naftan/
URL;VALUE=URI:https://streamradar.soccer/ru/match/5593205/bate-vs-naftan/
STATUS:CONFIRMED
END:VEVENT
END:VCALENDAR
