BEGIN:VCALENDAR
VERSION:2.0
PRODID:-//StreamRadar//Match Calendar//EN
CALSCALE:GREGORIAN
METHOD:PUBLISH
X-WR-CALNAME:Meizhou Hakka vs Shijiazhuang Kungfu
X-WR-TIMEZONE:America/New_York
BEGIN:VEVENT
UID:match-5589245@streamradar.soccer
SUMMARY:Meizhou Hakka vs Shijiazhuang Kungfu
DTSTAMP:20260423T193434Z
DTSTART;TZID=America/New_York:20260919T073000
DTEND;TZID=America/New_York:20260919T093000
LOCATION:Wuhua County Olympic Sports Centre
DESCRIPTION:Где смотреть Meizhou Hakka – Shijiazhuang Kungfu 
  турнире Первая лига Китая. Прямая транс
 яция и телепрограмма.\nhttps://streamradar.soccer/ru/mat
 ch/5589245/meizhou-hakka-vs-shijiazhuang-kungfu/
URL;VALUE=URI:https://streamradar.soccer/ru/match/5589245/meizhou-hakka-vs-
 shijiazhuang-kungfu/
STATUS:CONFIRMED
END:VEVENT
END:VCALENDAR
