BEGIN:VCALENDAR
VERSION:2.0
PRODID:-//StreamRadar//Match Calendar//EN
CALSCALE:GREGORIAN
METHOD:PUBLISH
X-WR-CALNAME:Nantong Zhiyun vs Guangxi Hengchen
X-WR-TIMEZONE:America/New_York
BEGIN:VEVENT
UID:match-5589241@streamradar.soccer
SUMMARY:Nantong Zhiyun vs Guangxi Hengchen
DTSTAMP:20260422T060019Z
DTSTART;TZID=America/New_York:20260918T073000
DTEND;TZID=America/New_York:20260918T093000
LOCATION:Rugao Olympic Sports Center
DESCRIPTION:Где смотреть Nantong Zhiyun – Guangxi Hengchen в 
 турнире Первая лига Китая. Прямая трансл
 ция и телепрограмма.\nhttps://streamradar.soccer/ru/match
 /5589241/nantong-zhiyun-vs-guangxi-hengchen/
URL;VALUE=URI:https://streamradar.soccer/ru/match/5589241/nantong-zhiyun-vs
 -guangxi-hengchen/
STATUS:CONFIRMED
END:VEVENT
END:VCALENDAR
