BEGIN:VCALENDAR
VERSION:2.0
PRODID:-//StreamRadar//Match Calendar//EN
CALSCALE:GREGORIAN
METHOD:PUBLISH
X-WR-CALNAME:Dalian Kuncheng vs Ningbo Professional
X-WR-TIMEZONE:America/New_York
BEGIN:VEVENT
UID:match-5589240@streamradar.soccer
SUMMARY:Dalian Kuncheng vs Ningbo Professional
DTSTAMP:20260423T205145Z
DTSTART;TZID=America/New_York:20260918T070000
DTEND;TZID=America/New_York:20260918T090000
LOCATION:Dalian Sports Center Stadium
DESCRIPTION:Где смотреть Dalian Kuncheng – Ningbo Professional
  в турнире Первая лига Китая. Прямая тран
 ляция и телепрограмма.\nhttps://streamradar.soccer/ru/m
 atch/5589240/dalian-kuncheng-vs-ningbo-professional/
URL;VALUE=URI:https://streamradar.soccer/ru/match/5589240/dalian-kuncheng-v
 s-ningbo-professional/
STATUS:CONFIRMED
END:VEVENT
END:VCALENDAR
