BEGIN:VCALENDAR
VERSION:2.0
PRODID:-//StreamRadar//Match Calendar//EN
CALSCALE:GREGORIAN
METHOD:PUBLISH
X-WR-CALNAME:Shijiazhuang Kungfu vs Shenzhen Juniors
X-WR-TIMEZONE:America/New_York
BEGIN:VEVENT
UID:match-5589238@streamradar.soccer
SUMMARY:Shijiazhuang Kungfu vs Shenzhen Juniors
DTSTAMP:20260423T193435Z
DTSTART;TZID=America/New_York:20260913T073000
DTEND;TZID=America/New_York:20260913T093000
LOCATION:Yutong International Sports Center
DESCRIPTION:Где смотреть Shijiazhuang Kungfu – Shenzhen Junior
 s в турнире Первая лига Китая. Прямая тран
 сляция и телепрограмма.\nhttps://streamradar.soccer/ru/
 match/5589238/shijiazhuang-kungfu-vs-shenzhen-juniors/
URL;VALUE=URI:https://streamradar.soccer/ru/match/5589238/shijiazhuang-kung
 fu-vs-shenzhen-juniors/
STATUS:CONFIRMED
END:VEVENT
END:VCALENDAR
