BEGIN:VCALENDAR
VERSION:2.0
PRODID:-//StreamRadar//Match Calendar//EN
CALSCALE:GREGORIAN
METHOD:PUBLISH
X-WR-CALNAME:Shaanxi Union vs Heilongjiang Lava Spring
X-WR-TIMEZONE:America/New_York
BEGIN:VEVENT
UID:match-5589224@streamradar.soccer
SUMMARY:Shaanxi Union vs Heilongjiang Lava Spring
DTSTAMP:20260423T205145Z
DTSTART;TZID=America/New_York:20260905T070000
DTEND;TZID=America/New_York:20260905T090000
LOCATION:Weinan Sports Center Stadium
DESCRIPTION:Где смотреть Shaanxi Union – Heilongjiang Lava Spr
 ing в турнире Первая лига Китая. Прямая тра
 нсляция и телепрограмма.\nhttps://streamradar.soccer/r
 u/match/5589224/shaanxi-union-vs-heilongjiang-lava-spring/
URL;VALUE=URI:https://streamradar.soccer/ru/match/5589224/shaanxi-union-vs-
 heilongjiang-lava-spring/
STATUS:CONFIRMED
END:VEVENT
END:VCALENDAR
