BEGIN:VCALENDAR
VERSION:2.0
PRODID:-//StreamRadar//Match Calendar//EN
CALSCALE:GREGORIAN
METHOD:PUBLISH
X-WR-CALNAME:Managua vs Jalapa
X-WR-TIMEZONE:America/New_York
BEGIN:VEVENT
UID:match-5568937@streamradar.soccer
SUMMARY:Managua vs Jalapa
DTSTAMP:20260423T123832Z
DTSTART;TZID=America/New_York:20260225T170000
DTEND;TZID=America/New_York:20260225T190000
LOCATION:Estadio Nacional de Fútbol (UNAN) (Managua)
DESCRIPTION:Где смотреть Манагуа – Jalapa в турни
 ре Никарагуа - Primera División Nicaragüense. Прямая т
 ансляция и телепрограмма.\nhttps://streamradar.socce
 r/ru/match/5568937/managua-vs-jalapa/
URL;VALUE=URI:https://streamradar.soccer/ru/match/5568937/managua-vs-jalapa
 /
STATUS:CONFIRMED
END:VEVENT
END:VCALENDAR
