BEGIN:VCALENDAR
VERSION:2.0
PRODID:-//StreamRadar//Match Calendar//EN
CALSCALE:GREGORIAN
METHOD:PUBLISH
X-WR-CALNAME:Altglienicke vs Luckenwalde
X-WR-TIMEZONE:America/New_York
BEGIN:VEVENT
UID:match-5568922@streamradar.soccer
SUMMARY:Altglienicke vs Luckenwalde
DTSTAMP:20260423T001835Z
DTSTART;TZID=America/New_York:20260311T140000
DTEND;TZID=America/New_York:20260311T160000
LOCATION:Friedrich-Ludwig-Jahn-Sportpark (Berlin)
DESCRIPTION:Где смотреть Altglienicke – Luckenwalde в тур
 ире Германия - Региональная лига. Прямая 
 трансляция и телепрограмма.\nhttps://streamradar.so
 ccer/ru/match/5568922/altglienicke-vs-luckenwalde/
URL;VALUE=URI:https://streamradar.soccer/ru/match/5568922/altglienicke-vs-l
 uckenwalde/
STATUS:CONFIRMED
END:VEVENT
END:VCALENDAR
