BEGIN:VCALENDAR
VERSION:2.0
PRODID:-//StreamRadar//Match Calendar//EN
CALSCALE:GREGORIAN
METHOD:PUBLISH
X-WR-CALNAME:Levadia U19 vs Tammeka U21
X-WR-TIMEZONE:America/New_York
BEGIN:VEVENT
UID:match-5567598@streamradar.soccer
SUMMARY:Levadia U19 vs Tammeka U21
DTSTAMP:20260424T025716Z
DTSTART;TZID=America/New_York:20260921T110000
DTEND;TZID=America/New_York:20260921T130000
DESCRIPTION:Где смотреть Levadia до 19 – Tammeka до 21 в 
 турнире Эстония - Esiliiga B. Прямая трансляци
 я и телепрограмма.\nhttps://streamradar.soccer/ru/match/5567
 598/levadia-u19-vs-tammeka-u21/
URL;VALUE=URI:https://streamradar.soccer/ru/match/5567598/levadia-u19-vs-ta
 mmeka-u21/
STATUS:CONFIRMED
END:VEVENT
END:VCALENDAR
