BEGIN:VCALENDAR
VERSION:2.0
PRODID:-//StreamRadar//Match Calendar//EN
CALSCALE:GREGORIAN
METHOD:PUBLISH
X-WR-CALNAME:Tartu Kalev vs Parnu JK VaprUS U21
X-WR-TIMEZONE:America/New_York
BEGIN:VEVENT
UID:match-5567590@streamradar.soccer
SUMMARY:Tartu Kalev vs Parnu JK VaprUS U21
DTSTAMP:20260423T171549Z
DTSTART;TZID=America/New_York:20260913T053000
DTEND;TZID=America/New_York:20260913T073000
DESCRIPTION:Где смотреть Tartu Kalev – Parnu JK VaprUS до 21
  в турнире Эстония - Esiliiga B. Прямая трансля
 ция и телепрограмма.\nhttps://streamradar.soccer/ru/match/
 5567590/tartu-kalev-vs-parnu-jk-vaprus-u21/
URL;VALUE=URI:https://streamradar.soccer/ru/match/5567590/tartu-kalev-vs-pa
 rnu-jk-vaprus-u21/
STATUS:CONFIRMED
END:VEVENT
END:VCALENDAR
