BEGIN:VCALENDAR
VERSION:2.0
PRODID:-//StreamRadar//Match Calendar//EN
CALSCALE:GREGORIAN
METHOD:PUBLISH
X-WR-CALNAME:Tammeka II vs Viljandi
X-WR-TIMEZONE:America/New_York
BEGIN:VEVENT
UID:match-5567587@streamradar.soccer
SUMMARY:Tammeka II vs Viljandi
DTSTAMP:20260423T170858Z
DTSTART;TZID=America/New_York:20260910T120000
DTEND;TZID=America/New_York:20260910T140000
DESCRIPTION:Где смотреть Tammeka II – Viljandi в турнир
 е Эстония - Esiliiga B. Прямая трансляция и тел
 епрограмма.\nhttps://streamradar.soccer/ru/match/5567587/tammeka-
 ii-vs-viljandi/
URL;VALUE=URI:https://streamradar.soccer/ru/match/5567587/tammeka-ii-vs-vil
 jandi/
STATUS:CONFIRMED
END:VEVENT
END:VCALENDAR
