BEGIN:VCALENDAR
VERSION:2.0
PRODID:-//StreamRadar//Match Calendar//EN
CALSCALE:GREGORIAN
METHOD:PUBLISH
X-WR-CALNAME:Elva vs FC Tallinn
X-WR-TIMEZONE:America/New_York
BEGIN:VEVENT
UID:match-5567428@streamradar.soccer
SUMMARY:Elva vs FC Tallinn
DTSTAMP:20260422T184722Z
DTSTART;TZID=America/New_York:20260919T120000
DTEND;TZID=America/New_York:20260919T140000
LOCATION:Nike Arena
DESCRIPTION:Где смотреть Elva – FC Tallinn в турнире 
 стония - Esiliiga A. Прямая трансляция и телеп
 рограмма.\nhttps://streamradar.soccer/ru/match/5567428/elva-vs-fc-t
 allinn/
URL;VALUE=URI:https://streamradar.soccer/ru/match/5567428/elva-vs-fc-tallin
 n/
STATUS:CONFIRMED
END:VEVENT
END:VCALENDAR
