BEGIN:VCALENDAR
VERSION:2.0
PRODID:-//StreamRadar//Match Calendar//EN
CALSCALE:GREGORIAN
METHOD:PUBLISH
X-WR-CALNAME:Viimsi vs Tartu Welco
X-WR-TIMEZONE:America/New_York
BEGIN:VEVENT
UID:match-5567427@streamradar.soccer
SUMMARY:Viimsi vs Tartu Welco
DTSTAMP:20260421T204211Z
DTSTART;TZID=America/New_York:20260917T120000
DTEND;TZID=America/New_York:20260917T140000
LOCATION:Viimsi Staadion
DESCRIPTION:Где смотреть Viimsi – Tartu Welco в турнир
  Эстония - Esiliiga A. Прямая трансляция и тел
 программа.\nhttps://streamradar.soccer/ru/match/5567427/viimsi-vs
 -tartu-welco/
URL;VALUE=URI:https://streamradar.soccer/ru/match/5567427/viimsi-vs-tartu-w
 elco/
STATUS:CONFIRMED
END:VEVENT
END:VCALENDAR
