BEGIN:VCALENDAR
VERSION:2.0
PRODID:-//StreamRadar//Match Calendar//EN
CALSCALE:GREGORIAN
METHOD:PUBLISH
X-WR-CALNAME:Flora II vs Elva
X-WR-TIMEZONE:America/New_York
BEGIN:VEVENT
UID:match-5567423@streamradar.soccer
SUMMARY:Flora II vs Elva
DTSTAMP:20260422T184622Z
DTSTART;TZID=America/New_York:20260913T053000
DTEND;TZID=America/New_York:20260913T073000
LOCATION:Sportland Arena
DESCRIPTION:Где смотреть Flora II – Elva в турнире Э
 тония - Esiliiga A. Прямая трансляция и телепр
 ограмма.\nhttps://streamradar.soccer/ru/match/5567423/flora-ii-vs-el
 va/
URL;VALUE=URI:https://streamradar.soccer/ru/match/5567423/flora-ii-vs-elva/
STATUS:CONFIRMED
END:VEVENT
END:VCALENDAR
