BEGIN:VCALENDAR
VERSION:2.0
PRODID:-//StreamRadar//Match Calendar//EN
CALSCALE:GREGORIAN
METHOD:PUBLISH
X-WR-CALNAME:Viimsi vs FC Tallinn
X-WR-TIMEZONE:America/New_York
BEGIN:VEVENT
UID:match-5567307@streamradar.soccer
SUMMARY:Viimsi vs FC Tallinn
DTSTAMP:20260421T114450Z
DTSTART;TZID=America/New_York:20260416T123000
DTEND;TZID=America/New_York:20260416T143000
LOCATION:Viimsi Staadion
DESCRIPTION:Где смотреть Viimsi – FC Tallinn в турнире
  Эстония - Esiliiga A. Прямая трансляция и теле
 программа.\nhttps://streamradar.soccer/ru/match/5567307/viimsi-vs-
 fc-tallinn/
URL;VALUE=URI:https://streamradar.soccer/ru/match/5567307/viimsi-vs-fc-tall
 inn/
STATUS:CONFIRMED
END:VEVENT
END:VCALENDAR
