BEGIN:VCALENDAR
VERSION:2.0
PRODID:-//StreamRadar//Match Calendar//EN
CALSCALE:GREGORIAN
METHOD:PUBLISH
X-WR-CALNAME:Uzhhorod vs Vilkhivtsi
X-WR-TIMEZONE:America/New_York
BEGIN:VEVENT
UID:match-5567229@streamradar.soccer
SUMMARY:Uzhhorod vs Vilkhivtsi
DTSTAMP:20260421T093623Z
DTSTART;TZID=America/New_York:20260418T083000
DTEND;TZID=America/New_York:20260418T103000
LOCATION:Stadion Avanhard (Uzhhorod)
DESCRIPTION:Где смотреть Uzhhorod – Vilkhivtsi в турнир
 е Украина - Вторая лига Украины. Прямая тр
 ансляция и телепрограмма.\nhttps://streamradar.soccer
 /ru/match/5567229/uzhhorod-vs-vilkhivtsi/
URL;VALUE=URI:https://streamradar.soccer/ru/match/5567229/uzhhorod-vs-vilkh
 ivtsi/
STATUS:CONFIRMED
END:VEVENT
END:VCALENDAR
