BEGIN:VCALENDAR
VERSION:2.0
PRODID:-//StreamRadar//Match Calendar//EN
CALSCALE:GREGORIAN
METHOD:PUBLISH
X-WR-CALNAME:Haninge vs Syrianska FC
X-WR-TIMEZONE:America/New_York
BEGIN:VEVENT
UID:match-5566894@streamradar.soccer
SUMMARY:Haninge vs Syrianska FC
DTSTAMP:20260422T024630Z
DTSTART;TZID=America/New_York:20260912T100000
DTEND;TZID=America/New_York:20260912T120000
LOCATION:Torvalla idrottsplats
DESCRIPTION:Где смотреть Haninge – Сирианска в ту
 нире Швеция - Дивизион 2 (Швеция). Прямая т
 рансляция и телепрограмма.\nhttps://streamradar.socc
 er/ru/match/5566894/haninge-vs-syrianska-fc/
URL;VALUE=URI:https://streamradar.soccer/ru/match/5566894/haninge-vs-syrian
 ska-fc/
STATUS:CONFIRMED
END:VEVENT
END:VCALENDAR
