BEGIN:VCALENDAR
VERSION:2.0
PRODID:-//StreamRadar//Match Calendar//EN
CALSCALE:GREGORIAN
METHOD:PUBLISH
X-WR-CALNAME:IFK Trelleborg vs Sölvesborg
X-WR-TIMEZONE:America/New_York
BEGIN:VEVENT
UID:match-5566722@streamradar.soccer
SUMMARY:IFK Trelleborg vs Sölvesborg
DTSTAMP:20260424T172026Z
DTSTART;TZID=America/New_York:20260920T090000
DTEND;TZID=America/New_York:20260920T110000
DESCRIPTION:Где смотреть IFK Trelleborg – Sölvesborg в ту
 нире Швеция - Дивизион 2 (Швеция). Прямая т
 рансляция и телепрограмма.\nhttps://streamradar.socc
 er/ru/match/5566722/ifk-trelleborg-vs-solvesborg/
URL;VALUE=URI:https://streamradar.soccer/ru/match/5566722/ifk-trelleborg-vs
 -solvesborg/
STATUS:CONFIRMED
END:VEVENT
END:VCALENDAR
